BEGIN:VCALENDAR
VERSION:2.0
PRODID:spatie/icalendar-generator
DESCRIPTION:Évènements de AUPPM
X-WR-CALDESC:Évènements de AUPPM
REFRESH-INTERVAL;VALUE=DURATION:PT1440M
X-PUBLISHED-TTL:PT1440M
BEGIN:VTIMEZONE
TZID:Europe/Paris
BEGIN:STANDARD
DTSTART:20241027T030000Z
TZOFFSETFROM:+0200
TZOFFSETTO:+0100
END:STANDARD
BEGIN:DAYLIGHT
DTSTART:20250330T020000Z
TZOFFSETFROM:+0100
TZOFFSETTO:+0200
END:DAYLIGHT
END:VTIMEZONE
BEGIN:VTIMEZONE
TZID:UTC
BEGIN:STANDARD
DTSTART:20250729T172538Z
TZOFFSETFROM:+0000
TZOFFSETTO:+0000
END:STANDARD
END:VTIMEZONE
BEGIN:VEVENT
UID:16-13
DTSTAMP:20260425T172538Z
SUMMARY:Assemblée Générale de l'AUPPM
LOCATION:Ecole de Voile 3 rue du Port Boucher  Piriac sur Mer  44420
ORGANIZER;CN=Patrick DAHLEM:MAILTO:patrickdahlem@free.fr
DTSTART;TZID=Europe/Paris:20250411T183000
DTEND;TZID=Europe/Paris:20250411T193000
X-ALT-DESC;FMTTYPE=TEXT/HTML:Emargement à partir de 18h15.
CATEGORIES:Générale
URL;VALUE=URI:https://www.auppm.fr/mc-events/assemblee-generale-de-lauppm-2
 /
METHOD:PUBLISH
END:VEVENT
END:VCALENDAR